BEGIN:VCALENDAR
VERSION:2.0
PRODID:-//ScaleUp Porto - ECPv5.1.5//NONSGML v1.0//EN
CALSCALE:GREGORIAN
METHOD:PUBLISH
X-WR-CALNAME:ScaleUp Porto
X-ORIGINAL-URL:https://scaleupporto.pt
X-WR-CALDESC:Events for ScaleUp Porto
BEGIN:VTIMEZONE
TZID:UTC
BEGIN:STANDARD
TZOFFSETFROM:+0000
TZOFFSETTO:+0000
TZNAME:UTC
DTSTART:20200101T000000
END:STANDARD
END:VTIMEZONE
BEGIN:VEVENT
DTSTART;TZID=UTC:20201216T180000
DTEND;TZID=UTC:20201216T193000
DTSTAMP:20260423T190038
CREATED:20201216T112323Z
LAST-MODIFIED:20230310T135227Z
UID:11490-1608141600-1608147000@scaleupporto.pt
SUMMARY:#8 Meetup Porto.Vue - 1 Year Anniversary! (Remote Edition)
DESCRIPTION:
URL:https://scaleupporto.pt/event/8-meetup-porto-vue-1-year-anniversary-remote-edition/
ATTACH;FMTTYPE=image/png:https://scaleupporto.pt/wp-content/uploads/2020/12/Porto.Vue_.png
END:VEVENT
END:VCALENDAR