BEGIN:VCALENDAR
VERSION:2.0
PRODID:-//ScaleUp Porto - ECPv5.1.5//NONSGML v1.0//EN
CALSCALE:GREGORIAN
METHOD:PUBLISH
X-WR-CALNAME:ScaleUp Porto
X-ORIGINAL-URL:https://scaleupporto.pt
X-WR-CALDESC:Events for ScaleUp Porto
BEGIN:VTIMEZONE
TZID:UTC
BEGIN:STANDARD
TZOFFSETFROM:+0000
TZOFFSETTO:+0000
TZNAME:UTC
DTSTART:20200101T000000
END:STANDARD
END:VTIMEZONE
BEGIN:VEVENT
DTSTART;TZID=UTC:20200630T173000
DTEND;TZID=UTC:20200630T193000
DTSTAMP:20260423T134805
CREATED:20200629T140218Z
LAST-MODIFIED:20230310T135157Z
UID:10878-1593538200-1593545400@scaleupporto.pt
SUMMARY:#2 Agile Beer Global - Online (in English)
DESCRIPTION:Schedule:\n– 10 minutes – Introduce Agile Beer and Meetup Team Agreements\n– 30 minutes – Jayaprakash Puttaswamy (https://www.linkedin.com/in/jputtaswamy/) will talk about “The leadership leverage for thriving agility”-> Leadership by its virtue can have significant influence and impact on enhancing agility of an organization. But many leaders are not aware of how their own Agile Leadership journey can act as a leverage to co-create organizational agility.\n– 05 minutes – Break (take another beer)\n– 45 minutes – Lean Beer\n– 10 minutes – Closure \n
URL:https://scaleupporto.pt/event/2-agile-beer-global-online-in-english/
END:VEVENT
END:VCALENDAR