BEGIN:VCALENDAR
VERSION:2.0
PRODID:-//ScaleUp Porto - ECPv5.1.5//NONSGML v1.0//EN
CALSCALE:GREGORIAN
METHOD:PUBLISH
X-WR-CALNAME:ScaleUp Porto
X-ORIGINAL-URL:https://scaleupporto.pt
X-WR-CALDESC:Events for ScaleUp Porto
BEGIN:VTIMEZONE
TZID:UTC
BEGIN:STANDARD
TZOFFSETFROM:+0000
TZOFFSETTO:+0000
TZNAME:UTC
DTSTART:20190101T000000
END:STANDARD
END:VTIMEZONE
BEGIN:VEVENT
DTSTART;TZID=UTC:20191128T180000
DTEND;TZID=UTC:20191128T203000
DTSTAMP:20260423T162136
CREATED:20191127T091957Z
LAST-MODIFIED:20230310T135124Z
UID:9427-1574964000-1574973000@scaleupporto.pt
SUMMARY:1st ExpertTalks in Porto: TDD\, Back to Basics + Remote Control
DESCRIPTION:
URL:https://scaleupporto.pt/event/1st-experttalks-in-porto-tdd-back-to-basics-remote-control/
LOCATION:Porto i/o Santa Catarina\, Rua de António Pedro 24
ATTACH;FMTTYPE=image/png:https://scaleupporto.pt/wp-content/uploads/2019/11/expert-talks.png
END:VEVENT
END:VCALENDAR