BEGIN:VCALENDAR
VERSION:2.0
PRODID:-//ScaleUp Porto - ECPv5.1.5//NONSGML v1.0//EN
CALSCALE:GREGORIAN
METHOD:PUBLISH
X-WR-CALNAME:ScaleUp Porto
X-ORIGINAL-URL:https://scaleupporto.pt
X-WR-CALDESC:Events for ScaleUp Porto
BEGIN:VTIMEZONE
TZID:UTC
BEGIN:STANDARD
TZOFFSETFROM:+0000
TZOFFSETTO:+0000
TZNAME:UTC
DTSTART:20200101T000000
END:STANDARD
END:VTIMEZONE
BEGIN:VEVENT
DTSTART;TZID=UTC:20201209T180000
DTEND;TZID=UTC:20201209T193000
DTSTAMP:20260423T113850
CREATED:20201216T112740Z
LAST-MODIFIED:20230310T135227Z
UID:11496-1607536800-1607542200@scaleupporto.pt
SUMMARY:[0x0E] - The Virtual Meet
DESCRIPTION:
URL:https://scaleupporto.pt/event/0x0e-the-virtual-meet/
ATTACH;FMTTYPE=image/jpeg:https://scaleupporto.pt/wp-content/uploads/2018/12/oposec.jpeg
END:VEVENT
END:VCALENDAR